BEGIN:VCALENDAR
VERSION:2.0
PRODID:-//Tommaso Pollio - ECPv4.6.14.1//NONSGML v1.0//EN
CALSCALE:GREGORIAN
METHOD:PUBLISH
X-WR-CALNAME:Tommaso Pollio
X-ORIGINAL-URL:https://www.tommasopollio.com.au
X-WR-CALDESC:Events for Tommaso Pollio
BEGIN:VEVENT
DTSTART;TZID=UTC+0:20170521T080000
DTEND;TZID=UTC+0:20170820T170000
DTSTAMP:20260423T123917
CREATED:20230614T023838Z
LAST-MODIFIED:20230614T023838Z
UID:735-1495353600-1503248400@www.tommasopollio.com.au
SUMMARY:2017 Chimera Ensemble Brochure
DESCRIPTION: \n
URL:https://www.tommasopollio.com.au/event/2017-chimera-ensemble-brochure/
ATTACH;FMTTYPE=image/jpeg:https://www.tommasopollio.com.au/wp-content/uploads/2023/06/Chimera-2017.jpg
END:VEVENT
END:VCALENDAR