BEGIN:VCALENDAR
VERSION:2.0
PRODID:-//Tommaso Pollio - ECPv4.6.14.1//NONSGML v1.0//EN
CALSCALE:GREGORIAN
METHOD:PUBLISH
X-WR-CALNAME:Tommaso Pollio
X-ORIGINAL-URL:https://www.tommasopollio.com.au
X-WR-CALDESC:Events for Tommaso Pollio
BEGIN:VEVENT
DTSTART;TZID=UTC+0:20230423T140000
DTEND;TZID=UTC+0:20230423T170000
DTSTAMP:20260423T114305
CREATED:20230407T224400Z
LAST-MODIFIED:20230908T201706Z
UID:694-1682258400-1682269200@www.tommasopollio.com.au
SUMMARY:Cello Sonatas - Beethoven\, Brahms\, Prokofiev
DESCRIPTION: \n
URL:https://www.tommasopollio.com.au/event/cello-sonatas-beethoven-brahms-prokofiev/
LOCATION:9 Ridge Street\, South Perth\, Western Australia\, Australia
ATTACH;FMTTYPE=image/jpeg:https://www.tommasopollio.com.au/wp-content/uploads/2023/04/49071CFF-A7BF-4327-BA55-3078FF013B1D.jpg
END:VEVENT
END:VCALENDAR