BEGIN:VCALENDAR
VERSION:2.0
PRODID:-//Tommaso Pollio - ECPv4.6.14.1//NONSGML v1.0//EN
CALSCALE:GREGORIAN
METHOD:PUBLISH
X-WR-CALNAME:Tommaso Pollio
X-ORIGINAL-URL:https://www.tommasopollio.com.au
X-WR-CALDESC:Events for Tommaso Pollio
BEGIN:VEVENT
DTSTART;TZID=UTC+0:20180101T080000
DTEND;TZID=UTC+0:20180101T170000
DTSTAMP:20260423T083534
CREATED:20230902T001117Z
LAST-MODIFIED:20230902T001306Z
UID:799-1514793600-1514826000@www.tommasopollio.com.au
SUMMARY:2018 Chimera Ensemble Brochure
DESCRIPTION: \n
URL:https://www.tommasopollio.com.au/event/chimera-ensemble-2018-brochure/
ATTACH;FMTTYPE=image/jpeg:https://www.tommasopollio.com.au/wp-content/uploads/2023/09/673F140D-CDE0-4ACB-B038-E292B9780F80.jpg
END:VEVENT
END:VCALENDAR