BEGIN:VCALENDAR
VERSION:2.0
PRODID:-//Tommaso Pollio - ECPv4.6.14.1//NONSGML v1.0//EN
CALSCALE:GREGORIAN
METHOD:PUBLISH
X-WR-CALNAME:Tommaso Pollio
X-ORIGINAL-URL:https://www.tommasopollio.com.au
X-WR-CALDESC:Events for Tommaso Pollio
BEGIN:VEVENT
DTSTART;TZID=UTC+0:20160619T150000
DTEND;TZID=UTC+0:20160619T170000
DTSTAMP:20260423T154533
CREATED:20231229T225059Z
LAST-MODIFIED:20231229T225059Z
UID:921-1466348400-1466355600@www.tommasopollio.com.au
SUMMARY:Chimera ensemble at Guildford Grammar School
DESCRIPTION: \n
URL:https://www.tommasopollio.com.au/event/chimera-ensemble-at-guildford-grammar-school/
ATTACH;FMTTYPE=image/jpeg:https://www.tommasopollio.com.au/wp-content/uploads/2023/12/June-9-2016-Chimera-Guildford-flyerposter.jpg
END:VEVENT
END:VCALENDAR