BEGIN:VCALENDAR
VERSION:2.0
PRODID:-//Tommaso Pollio - ECPv4.6.14.1//NONSGML v1.0//EN
CALSCALE:GREGORIAN
METHOD:PUBLISH
X-WR-CALNAME:Tommaso Pollio
X-ORIGINAL-URL:https://www.tommasopollio.com.au
X-WR-CALDESC:Events for Tommaso Pollio
BEGIN:VEVENT
DTSTART;TZID=Australia/Perth:20260322T143000
DTEND;TZID=Australia/Perth:20260322T160000
DTSTAMP:20260425T202558
CREATED:20260314T083226Z
LAST-MODIFIED:20260314T083226Z
UID:1647-1774189800-1774195200@www.tommasopollio.com.au
SUMMARY:Chimera Ensemble Presents: Folkloric Echoes
DESCRIPTION: \n
URL:https://www.tommasopollio.com.au/event/chimera-ensemble-presents-folkloric-echoes/
LOCATION:9 Ridge Street\, South Perth\, Western Australia
ATTACH;FMTTYPE=image/png:https://www.tommasopollio.com.au/wp-content/uploads/2026/03/Screenshot-2026-03-14-at-4.28.50 pm.png
END:VEVENT
END:VCALENDAR