BEGIN:VCALENDAR
VERSION:2.0
PRODID:-//Tommaso Pollio - ECPv4.6.14.1//NONSGML v1.0//EN
CALSCALE:GREGORIAN
METHOD:PUBLISH
X-WR-CALNAME:Tommaso Pollio
X-ORIGINAL-URL:https://www.tommasopollio.com.au
X-WR-CALDESC:Events for Tommaso Pollio
BEGIN:VEVENT
DTSTART;TZID=UTC+0:20160605T143000
DTEND;TZID=UTC+0:20160605T170000
DTSTAMP:20260423T170355
CREATED:20240517T183102Z
LAST-MODIFIED:20240517T183102Z
UID:985-1465137000-1465146000@www.tommasopollio.com.au
SUMMARY:Chimera Ensemble
DESCRIPTION: \n
URL:https://www.tommasopollio.com.au/event/chimera-ensemble/
ATTACH;FMTTYPE=image/jpeg:https://www.tommasopollio.com.au/wp-content/uploads/2024/05/2015-June-5.jpg
END:VEVENT
END:VCALENDAR