BEGIN:VCALENDAR
VERSION:2.0
PRODID:-//Tommaso Pollio - ECPv4.6.14.1//NONSGML v1.0//EN
CALSCALE:GREGORIAN
METHOD:PUBLISH
X-WR-CALNAME:Tommaso Pollio
X-ORIGINAL-URL:https://www.tommasopollio.com.au
X-WR-CALDESC:Events for Tommaso Pollio
BEGIN:VEVENT
DTSTART;TZID=Australia/Perth:20190314T193000
DTEND;TZID=Australia/Perth:20190314T213000
DTSTAMP:20260419T083914
CREATED:20190310T062145Z
LAST-MODIFIED:20190706T192508Z
UID:482-1552591800-1552599000@www.tommasopollio.com.au
SUMMARY:Freeze Frame Opera at the Quarry: RAW
DESCRIPTION:Starring Tommaso Pollio (piano)\, Sophie Curtis (cello)\, Naomi Johns and Harriet Marshall (sopranos)\, Jun Zhang (tenor)\, Caitlin Cassidy (mezzo soprano) and Robert Hofmann (baritone).Performing highlights from Rigoletto\, La Traviata\, Der Rosenkavalier\, The Merry Widow\, Turandot\, Kung Fu Panda and more! \n
URL:https://www.tommasopollio.com.au/event/freeze-frame-opera-at-the-quarry-raw/2019-03-14/
LOCATION:1 Waldron Dr\, City Beach WA\, Perth\, Western Australia\, 6015\, Australia
ATTACH;FMTTYPE=image/jpeg:https://www.tommasopollio.com.au/wp-content/uploads/2019/03/1dcd9b01-3cab-40b0-979b-32177e8fd19c.jpeg
ORGANIZER;CN="Freeze%20Frame%20Opera":MAILTO:freezeframeopera@gmail.com
END:VEVENT
END:VCALENDAR