BEGIN:VCALENDAR
VERSION:2.0
PRODID:-//Tommaso Pollio - ECPv4.6.14.1//NONSGML v1.0//EN
CALSCALE:GREGORIAN
METHOD:PUBLISH
X-WR-CALNAME:Tommaso Pollio
X-ORIGINAL-URL:https://www.tommasopollio.com.au
X-WR-CALDESC:Events for Tommaso Pollio
BEGIN:VEVENT
DTSTART;TZID=UTC+0:20101212T150000
DTEND;TZID=UTC+0:20101212T170000
DTSTAMP:20260424T014334
CREATED:20240322T224118Z
LAST-MODIFIED:20240322T224118Z
UID:966-1292166000-1292173200@www.tommasopollio.com.au
SUMMARY:Goethe Society: Christmas Concert
DESCRIPTION:FlyerXmasGoethe2011  \n
URL:https://www.tommasopollio.com.au/event/goethe-society-christmas-concert/
ATTACH;FMTTYPE=image/jpeg:https://www.tommasopollio.com.au/wp-content/uploads/2024/03/FlyerXmasGoethe2011.jpg
END:VEVENT
END:VCALENDAR