BEGIN:VCALENDAR
VERSION:2.0
PRODID:-//Tommaso Pollio - ECPv4.6.14.1//NONSGML v1.0//EN
CALSCALE:GREGORIAN
METHOD:PUBLISH
X-WR-CALNAME:Tommaso Pollio
X-ORIGINAL-URL:https://www.tommasopollio.com.au
X-WR-CALDESC:Events for Tommaso Pollio
BEGIN:VEVENT
DTSTART;TZID=UTC+0:20170820T143000
DTEND;TZID=UTC+0:20170820T170000
DTSTAMP:20260423T083657
CREATED:20230827T035046Z
LAST-MODIFIED:20230827T035046Z
UID:795-1503239400-1503248400@www.tommasopollio.com.au
SUMMARY:Mozart & The Trout
DESCRIPTION: \n
URL:https://www.tommasopollio.com.au/event/mozart-the-trout-2/
LOCATION:105 Shenton Road\, Swanbourne\, WA\, Australia
ATTACH;FMTTYPE=image/jpeg:https://www.tommasopollio.com.au/wp-content/uploads/2023/08/508F258B-1813-44D3-809E-AA736B21FC39.jpg
END:VEVENT
END:VCALENDAR