BEGIN:VCALENDAR
VERSION:2.0
PRODID:-//Tommaso Pollio - ECPv4.6.14.1//NONSGML v1.0//EN
CALSCALE:GREGORIAN
METHOD:PUBLISH
X-WR-CALNAME:Tommaso Pollio
X-ORIGINAL-URL:https://www.tommasopollio.com.au
X-WR-CALDESC:Events for Tommaso Pollio
BEGIN:VEVENT
DTSTART;TZID=UTC+0:20170305T140000
DTEND;TZID=UTC+0:20170305T170000
DTSTAMP:20260423T142452
CREATED:20230624T052329Z
LAST-MODIFIED:20230624T052329Z
UID:742-1488722400-1488733200@www.tommasopollio.com.au
SUMMARY:Music for cello and piano
DESCRIPTION: \n
URL:https://www.tommasopollio.com.au/event/music-for-cello-and-piano/
ATTACH;FMTTYPE=image/jpeg:https://www.tommasopollio.com.au/wp-content/uploads/2023/06/Chimera-Cello-Piano.jpg
END:VEVENT
END:VCALENDAR