BEGIN:VCALENDAR
VERSION:2.0
PRODID:-//Tommaso Pollio - ECPv4.6.14.1//NONSGML v1.0//EN
CALSCALE:GREGORIAN
METHOD:PUBLISH
X-WR-CALNAME:Tommaso Pollio
X-ORIGINAL-URL:https://www.tommasopollio.com.au
X-WR-CALDESC:Events for Tommaso Pollio
BEGIN:VEVENT
DTSTART;TZID=UTC+0:20141102T143000
DTEND;TZID=UTC+0:20141102T170000
DTSTAMP:20260423T213203
CREATED:20240112T180805Z
LAST-MODIFIED:20240112T180805Z
UID:925-1414938600-1414947600@www.tommasopollio.com.au
SUMMARY:The Druzhba Concert
DESCRIPTION:Nov Poster  \n
URL:https://www.tommasopollio.com.au/event/the-druzhba-concert/
ATTACH;FMTTYPE=image/jpeg:https://www.tommasopollio.com.au/wp-content/uploads/2024/01/Nov-Poster.jpg
END:VEVENT
END:VCALENDAR