BEGIN:VCALENDAR
VERSION:2.0
PRODID:-//Tommaso Pollio - ECPv4.6.14.1//NONSGML v1.0//EN
CALSCALE:GREGORIAN
METHOD:PUBLISH
X-WR-CALNAME:Tommaso Pollio
X-ORIGINAL-URL:https://www.tommasopollio.com.au
X-WR-CALDESC:Events for Tommaso Pollio
BEGIN:VEVENT
DTSTART;TZID=UTC+0:20230720T193000
DTEND;TZID=UTC+0:20230720T223000
DTSTAMP:20260423T113616
CREATED:20230701T012000Z
LAST-MODIFIED:20230701T012000Z
UID:745-1689881400-1689892200@www.tommasopollio.com.au
SUMMARY:Verdi: Otello
DESCRIPTION: \n
URL:https://www.tommasopollio.com.au/event/verdi-otello/2023-07-20/
LOCATION:western Australia\, Australia
ATTACH;FMTTYPE=image/png:https://www.tommasopollio.com.au/wp-content/uploads/2023/07/Screen-Shot-2023-07-01-at-5.13.26-pm.png
END:VEVENT
END:VCALENDAR