BEGIN:VCALENDAR
VERSION:2.0
PRODID:-//Tommaso Pollio - ECPv4.6.14.1//NONSGML v1.0//EN
CALSCALE:GREGORIAN
METHOD:PUBLISH
X-WR-CALNAME:Tommaso Pollio
X-ORIGINAL-URL:https://www.tommasopollio.com.au
X-WR-CALDESC:Events for Tommaso Pollio
BEGIN:VEVENT
DTSTART;TZID=UTC+0:20240719T130000
DTEND;TZID=UTC+0:20240719T140000
DTSTAMP:20260423T220755
CREATED:20240713T001032Z
LAST-MODIFIED:20240713T001032Z
UID:1015-1721394000-1721397600@www.tommasopollio.com.au
SUMMARY:Wesley at One
DESCRIPTION: \n
URL:https://www.tommasopollio.com.au/event/wesley-at-one/
LOCATION:Australia
ATTACH;FMTTYPE=image/jpeg:https://www.tommasopollio.com.au/wp-content/uploads/2024/07/tempImagee4mYN0.jpg
END:VEVENT
END:VCALENDAR