BEGIN:VCALENDAR
VERSION:2.0
PRODID:-//Tommaso Pollio - ECPv4.6.14.1//NONSGML v1.0//EN
CALSCALE:GREGORIAN
METHOD:PUBLISH
X-WR-CALNAME:Tommaso Pollio
X-ORIGINAL-URL:https://www.tommasopollio.com.au
X-WR-CALDESC:Events for Tommaso Pollio
BEGIN:VEVENT
DTSTART;TZID=Australia/Perth:20260806T193000
DTEND;TZID=Australia/Perth:20260806T220000
DTSTAMP:20260420T031822
CREATED:20260103T022605Z
LAST-MODIFIED:20260103T023005Z
UID:1595-1786044600-1786053600@www.tommasopollio.com.au
SUMMARY:West Australian Opera Presents Eugene Onegin
DESCRIPTION: \n
URL:https://www.tommasopollio.com.au/event/west-australian-opera-presents-eugene-onegin/2026-08-06/
LOCATION:western Australia\, Australia
ATTACH;FMTTYPE=image/png:https://www.tommasopollio.com.au/wp-content/uploads/2026/01/Screenshot-2026-01-03-at-10.22.59 am.png
END:VEVENT
END:VCALENDAR