BEGIN:VCALENDAR
VERSION:2.0
PRODID:-//Tommaso Pollio - ECPv4.6.14.1//NONSGML v1.0//EN
CALSCALE:GREGORIAN
METHOD:PUBLISH
X-WR-CALNAME:Tommaso Pollio
X-ORIGINAL-URL:https://www.tommasopollio.com.au
X-WR-CALDESC:Events for Tommaso Pollio
BEGIN:VEVENT
DTSTART;TZID=UTC+0:20230727T193000
DTEND;TZID=UTC+0:20230727T210000
DTSTAMP:20260423T100453
CREATED:20230707T174609Z
LAST-MODIFIED:20230707T174609Z
UID:754-1690486200-1690491600@www.tommasopollio.com.au
SUMMARY:What The Fandango?!
DESCRIPTION: \nPresented by His Majesty’s Theatre as part of the 825 Downstairs 2023 Season \n\n\nLaugh away those winter blues with all-around entertainer Robert Hofmann as he delivers a gaggle of songs from Broadway\, opera and even a little pop culture sprinkled into the mix.\n \nUnderscored by the sonorous and suggestive playing of Perth’s premier pianist Tommaso Pollio\, Hofmann will have you swooning at his incredible voice and cheering in your seat as he routinely rotates between costumes and characters. \nFresh from his triumph as Barry Fife in Drew Anthony Creative’s production of Strictly Ballroom\, Hofmann’s stunning skills as a cabaret performer draw on over 25 years’ experience as a professional opera\, concert and music theatre singer performing many principal roles with West Australian Opera\, Freeze Frame Opera\, and the St George’s Cathedral Concert Series. \nDon’t miss this season of What the Fandango?! to experience what critics have raved about in off-Broadway New York and Fringe Festivals of Perth\, Melbourne and Edinburgh. \n“Hofmann packs an immense arsenal of skills and talent…a stunning all-around entertainer bringing an act that we – here in the U.S.A. – have never seen.” – Words4Music (New York) \n“There is so much talent and so much fun to be had at Fringe… but if I must choose one outstanding presentation it would be\, I think\, Robert Hofmann’s  What the Fandango?!”  – ArtsHub \n\n  \n
URL:https://www.tommasopollio.com.au/event/what-the-fandango/2023-07-27/
LOCATION:western Australia\, Australia
ATTACH;FMTTYPE=image/png:https://www.tommasopollio.com.au/wp-content/uploads/2023/07/Screen-Shot-2023-07-08-at-9.40.00-am.png
END:VEVENT
END:VCALENDAR